BEGIN:VCALENDAR
VERSION:2.0
PRODID:-//Monument City Brewing - ECPv6.15.20//NONSGML v1.0//EN
CALSCALE:GREGORIAN
METHOD:PUBLISH
X-WR-CALNAME:Monument City Brewing
X-ORIGINAL-URL:https://monumentcitybrewing.com
X-WR-CALDESC:Events for Monument City Brewing
REFRESH-INTERVAL;VALUE=DURATION:PT1H
X-Robots-Tag:noindex
X-PUBLISHED-TTL:PT1H
BEGIN:VTIMEZONE
TZID:America/New_York
BEGIN:DAYLIGHT
TZOFFSETFROM:-0500
TZOFFSETTO:-0400
TZNAME:EDT
DTSTART:20250309T070000
END:DAYLIGHT
BEGIN:STANDARD
TZOFFSETFROM:-0400
TZOFFSETTO:-0500
TZNAME:EST
DTSTART:20251102T060000
END:STANDARD
BEGIN:DAYLIGHT
TZOFFSETFROM:-0500
TZOFFSETTO:-0400
TZNAME:EDT
DTSTART:20260308T070000
END:DAYLIGHT
BEGIN:STANDARD
TZOFFSETFROM:-0400
TZOFFSETTO:-0500
TZNAME:EST
DTSTART:20261101T060000
END:STANDARD
BEGIN:DAYLIGHT
TZOFFSETFROM:-0500
TZOFFSETTO:-0400
TZNAME:EDT
DTSTART:20270314T070000
END:DAYLIGHT
BEGIN:STANDARD
TZOFFSETFROM:-0400
TZOFFSETTO:-0500
TZNAME:EST
DTSTART:20271107T060000
END:STANDARD
END:VTIMEZONE
BEGIN:VEVENT
DTSTART;TZID=America/New_York:20260903T160000
DTEND;TZID=America/New_York:20260903T210000
DTSTAMP:20260424T094324
CREATED:20250402T174840Z
LAST-MODIFIED:20250402T180407Z
UID:10001089-1788451200-1788469200@monumentcitybrewing.com
SUMMARY:Thursday Neighborhood Happy Hour!
DESCRIPTION:
URL:https://monumentcitybrewing.com/event/thursday-neighborhood-happy-hour/2026-09-03/
LOCATION:Monument City Brewing\, 1 N. Haven Street\, Baltimore\, MD\, 21224\, United States
ATTACH;FMTTYPE=image/webp:https://monumentcitybrewing.com/wp-content/uploads/2025/04/Happy_Hour_story-scaled-aspect-ratio-1517-1869-scaled.webp
END:VEVENT
BEGIN:VEVENT
DTSTART;TZID=America/New_York:20260904T190000
DTEND;TZID=America/New_York:20260904T220000
DTSTAMP:20260424T094324
CREATED:20251001T192526Z
LAST-MODIFIED:20251001T194155Z
UID:10001407-1788548400-1788559200@monumentcitybrewing.com
SUMMARY:1st Friday Open Mic
DESCRIPTION:
URL:https://monumentcitybrewing.com/event/1st-friday-open-mic/2026-09-04/
LOCATION:Monument City Brewing\, 1 N. Haven Street\, Baltimore\, MD\, 21224\, United States
ATTACH;FMTTYPE=image/webp:https://monumentcitybrewing.com/wp-content/uploads/2025/10/Your-paragraph-text-1-aspect-ratio-902-1320.webp
END:VEVENT
BEGIN:VEVENT
DTSTART;TZID=America/New_York:20260910T160000
DTEND;TZID=America/New_York:20260910T210000
DTSTAMP:20260424T094324
CREATED:20250402T174840Z
LAST-MODIFIED:20250402T180407Z
UID:10001090-1789056000-1789074000@monumentcitybrewing.com
SUMMARY:Thursday Neighborhood Happy Hour!
DESCRIPTION:
URL:https://monumentcitybrewing.com/event/thursday-neighborhood-happy-hour/2026-09-10/
LOCATION:Monument City Brewing\, 1 N. Haven Street\, Baltimore\, MD\, 21224\, United States
ATTACH;FMTTYPE=image/webp:https://monumentcitybrewing.com/wp-content/uploads/2025/04/Happy_Hour_story-scaled-aspect-ratio-1517-1869-scaled.webp
END:VEVENT
BEGIN:VEVENT
DTSTART;TZID=America/New_York:20260917T160000
DTEND;TZID=America/New_York:20260917T210000
DTSTAMP:20260424T094324
CREATED:20250402T174840Z
LAST-MODIFIED:20250402T180407Z
UID:10001091-1789660800-1789678800@monumentcitybrewing.com
SUMMARY:Thursday Neighborhood Happy Hour!
DESCRIPTION:
URL:https://monumentcitybrewing.com/event/thursday-neighborhood-happy-hour/2026-09-17/
LOCATION:Monument City Brewing\, 1 N. Haven Street\, Baltimore\, MD\, 21224\, United States
ATTACH;FMTTYPE=image/webp:https://monumentcitybrewing.com/wp-content/uploads/2025/04/Happy_Hour_story-scaled-aspect-ratio-1517-1869-scaled.webp
END:VEVENT
BEGIN:VEVENT
DTSTART;TZID=America/New_York:20260917T170000
DTEND;TZID=America/New_York:20260917T220000
DTSTAMP:20260424T094324
CREATED:20250325T125653Z
LAST-MODIFIED:20250918T174619Z
UID:10000969-1789664400-1789682400@monumentcitybrewing.com
SUMMARY:3rd Thursday Cask Night!
DESCRIPTION:
URL:https://monumentcitybrewing.com/event/3rd-thursday-cask-night/2026-09-17/
LOCATION:Monument City Brewing\, 1 N. Haven Street\, Baltimore\, MD\, 21224\, United States
ATTACH;FMTTYPE=image/webp:https://monumentcitybrewing.com/wp-content/uploads/2025/03/Cask_Night_3.20-aspect-ratio-1650-1535.webp
END:VEVENT
BEGIN:VEVENT
DTSTART;TZID=America/New_York:20260924T160000
DTEND;TZID=America/New_York:20260924T210000
DTSTAMP:20260424T094324
CREATED:20250402T174840Z
LAST-MODIFIED:20250402T180407Z
UID:10001092-1790265600-1790283600@monumentcitybrewing.com
SUMMARY:Thursday Neighborhood Happy Hour!
DESCRIPTION:
URL:https://monumentcitybrewing.com/event/thursday-neighborhood-happy-hour/2026-09-24/
LOCATION:Monument City Brewing\, 1 N. Haven Street\, Baltimore\, MD\, 21224\, United States
ATTACH;FMTTYPE=image/webp:https://monumentcitybrewing.com/wp-content/uploads/2025/04/Happy_Hour_story-scaled-aspect-ratio-1517-1869-scaled.webp
END:VEVENT
END:VCALENDAR